Package: iterativeBMA Version: 1.58.0 Command: /Library/Frameworks/R.framework/Resources/bin/R CMD build --keep-empty-dirs --no-resave-data iterativeBMA StartedAt: 2023-10-15 19:05:38 -0400 (Sun, 15 Oct 2023) EndedAt: 2023-10-15 19:06:24 -0400 (Sun, 15 Oct 2023) EllapsedTime: 45.7 seconds RetCode: 0 Status: OK PackageFile: iterativeBMA_1.58.0.tar.gz PackageFileSize: 158.9 KiB