Package: iterClust Version: 1.22.0 Command: F:\biocbuild\bbs-3.17-bioc\R\bin\R.exe CMD INSTALL iterClust StartedAt: 2023-10-15 15:49:06 -0400 (Sun, 15 Oct 2023) EndedAt: 2023-10-15 15:49:23 -0400 (Sun, 15 Oct 2023) EllapsedTime: 17.1 seconds RetCode: 0 Status: OK