Package: iterClust Version: 1.22.0 Command: rm -rf iterClust.buildbin-libdir && mkdir iterClust.buildbin-libdir && F:\biocbuild\bbs-3.17-bioc\R\bin\R.exe CMD INSTALL --build --library=iterClust.buildbin-libdir iterClust_1.22.0.tar.gz StartedAt: 2023-10-16 08:59:20 -0400 (Mon, 16 Oct 2023) EndedAt: 2023-10-16 08:59:25 -0400 (Mon, 16 Oct 2023) EllapsedTime: 4.9 seconds RetCode: 0 Status: OK PackageFile: iterClust_1.22.0.zip PackageFileSize: 144.6 KiB