Package: iterClust Version: 1.22.0 Command: rm -rf iterClust.buildbin-libdir && mkdir iterClust.buildbin-libdir && /Users/biocbuild/BBS/utils/build-universal.sh iterClust_1.22.0.tar.gz /Library/Frameworks/R.framework/Resources/bin/R iterClust.buildbin-libdir StartedAt: 2023-10-16 09:36:51 -0400 (Mon, 16 Oct 2023) EndedAt: 2023-10-16 09:37:00 -0400 (Mon, 16 Oct 2023) EllapsedTime: 9.5 seconds RetCode: 0 Status: OK PackageFile: iterClust_1.22.0.tgz PackageFileSize: 141.7 KiB