Package: isomiRs Version: 1.28.0 Command: /home/biocbuild/bbs-3.17-bioc/R/bin/R CMD check --install=check:isomiRs.install-out.txt --library=/home/biocbuild/bbs-3.17-bioc/R/site-library --timings isomiRs_1.28.0.tar.gz StartedAt: 2023-10-15 22:17:17 -0400 (Sun, 15 Oct 2023) EndedAt: 2023-10-15 22:22:16 -0400 (Sun, 15 Oct 2023) EllapsedTime: 299.1 seconds RetCode: 0 Status: OK CheckDir: isomiRs.Rcheck Warnings: 0