Package: isomiRs Version: 1.28.0 Command: /Library/Frameworks/R.framework/Resources/bin/R CMD build --keep-empty-dirs --no-resave-data isomiRs StartedAt: 2023-10-15 19:05:20 -0400 (Sun, 15 Oct 2023) EndedAt: 2023-10-15 19:09:08 -0400 (Sun, 15 Oct 2023) EllapsedTime: 227.1 seconds RetCode: 0 Status: OK PackageFile: isomiRs_1.28.0.tar.gz PackageFileSize: 4.234 MiB