Package: ipdDb Version: 1.18.0 Command: F:\biocbuild\bbs-3.17-bioc\R\bin\R.exe CMD check --no-multiarch --install=check:ipdDb.install-out.txt --library=F:\biocbuild\bbs-3.17-bioc\R\library --no-vignettes --timings ipdDb_1.18.0.tar.gz StartedAt: 2023-10-16 03:19:30 -0400 (Mon, 16 Oct 2023) EndedAt: 2023-10-16 03:23:16 -0400 (Mon, 16 Oct 2023) EllapsedTime: 226.2 seconds RetCode: 0 Status: OK CheckDir: ipdDb.Rcheck Warnings: 0