Package: ipdDb Version: 1.18.0 Command: chmod a+r ipdDb -R && F:\biocbuild\bbs-3.17-bioc\R\bin\R.exe CMD build --keep-empty-dirs --no-resave-data ipdDb StartedAt: 2023-10-15 20:00:01 -0400 (Sun, 15 Oct 2023) EndedAt: 2023-10-15 20:00:24 -0400 (Sun, 15 Oct 2023) EllapsedTime: 22.9 seconds RetCode: 0 Status: OK PackageFile: ipdDb_1.18.0.tar.gz PackageFileSize: 21.12 KiB