Package: ipdDb Version: 1.18.0 Command: /home/biocbuild/bbs-3.17-bioc/R/bin/R CMD INSTALL ipdDb StartedAt: 2023-10-15 15:50:53 -0400 (Sun, 15 Oct 2023) EndedAt: 2023-10-15 15:51:11 -0400 (Sun, 15 Oct 2023) EllapsedTime: 17.3 seconds RetCode: 0 Status: OK