Package: ipdDb Version: 1.18.0 Command: /Library/Frameworks/R.framework/Resources/bin/R CMD INSTALL ipdDb StartedAt: 2023-10-15 16:33:53 -0400 (Sun, 15 Oct 2023) EndedAt: 2023-10-15 16:34:52 -0400 (Sun, 15 Oct 2023) EllapsedTime: 59.0 seconds RetCode: 0 Status: OK