Package: interactiveDisplayBase Version: 1.38.0 Command: F:\biocbuild\bbs-3.17-bioc\R\bin\R.exe CMD check --no-multiarch --install=check:interactiveDisplayBase.install-out.txt --library=F:\biocbuild\bbs-3.17-bioc\R\library --no-vignettes --timings interactiveDisplayBase_1.38.0.tar.gz StartedAt: 2023-10-16 03:16:45 -0400 (Mon, 16 Oct 2023) EndedAt: 2023-10-16 03:17:18 -0400 (Mon, 16 Oct 2023) EllapsedTime: 33.1 seconds RetCode: 0 Status: OK CheckDir: interactiveDisplayBase.Rcheck Warnings: 0