Package: interactiveDisplayBase Version: 1.38.0 Command: rm -rf interactiveDisplayBase.buildbin-libdir && mkdir interactiveDisplayBase.buildbin-libdir && F:\biocbuild\bbs-3.17-bioc\R\bin\R.exe CMD INSTALL --build --library=interactiveDisplayBase.buildbin-libdir interactiveDisplayBase_1.38.0.tar.gz StartedAt: 2023-10-16 08:58:02 -0400 (Mon, 16 Oct 2023) EndedAt: 2023-10-16 08:58:07 -0400 (Mon, 16 Oct 2023) EllapsedTime: 5.6 seconds RetCode: 0 Status: OK PackageFile: interactiveDisplayBase_1.38.0.zip PackageFileSize: 34.42 KiB