Package: interactiveDisplayBase Version: 1.38.0 Command: /Library/Frameworks/R.framework/Resources/bin/R CMD build --keep-empty-dirs --no-resave-data interactiveDisplayBase StartedAt: 2023-10-15 19:02:29 -0400 (Sun, 15 Oct 2023) EndedAt: 2023-10-15 19:02:41 -0400 (Sun, 15 Oct 2023) EllapsedTime: 12.7 seconds RetCode: 0 Status: OK PackageFile: interactiveDisplayBase_1.38.0.tar.gz PackageFileSize: 7.582 KiB