Package: interactiveDisplayBase Version: 1.38.0 Command: rm -rf interactiveDisplayBase.buildbin-libdir && mkdir interactiveDisplayBase.buildbin-libdir && /Users/biocbuild/BBS/utils/build-universal.sh interactiveDisplayBase_1.38.0.tar.gz /Library/Frameworks/R.framework/Resources/bin/R interactiveDisplayBase.buildbin-libdir StartedAt: 2023-10-16 09:35:22 -0400 (Mon, 16 Oct 2023) EndedAt: 2023-10-16 09:35:34 -0400 (Mon, 16 Oct 2023) EllapsedTime: 12.5 seconds RetCode: 0 Status: OK PackageFile: interactiveDisplayBase_1.38.0.tgz PackageFileSize: 27.64 KiB