Package: interactiveDisplay Version: 1.38.0 Command: chmod a+r interactiveDisplay -R && F:\biocbuild\bbs-3.17-bioc\R\bin\R.exe CMD build --keep-empty-dirs --no-resave-data interactiveDisplay StartedAt: 2023-10-15 19:59:09 -0400 (Sun, 15 Oct 2023) EndedAt: 2023-10-15 20:00:13 -0400 (Sun, 15 Oct 2023) EllapsedTime: 64.4 seconds RetCode: 0 Status: OK PackageFile: interactiveDisplay_1.38.0.tar.gz PackageFileSize: 4.528 MiB