Package: interactiveDisplay Version: 1.38.0 Command: rm -rf interactiveDisplay.buildbin-libdir && mkdir interactiveDisplay.buildbin-libdir && F:\biocbuild\bbs-3.17-bioc\R\bin\R.exe CMD INSTALL --build --library=interactiveDisplay.buildbin-libdir interactiveDisplay_1.38.0.tar.gz StartedAt: 2023-10-16 08:57:59 -0400 (Mon, 16 Oct 2023) EndedAt: 2023-10-16 08:58:35 -0400 (Mon, 16 Oct 2023) EllapsedTime: 35.8 seconds RetCode: 0 Status: OK PackageFile: interactiveDisplay_1.38.0.zip PackageFileSize: 2.445 MiB