Package: interactiveDisplay Version: 1.38.0 Command: /home/biocbuild/bbs-3.17-bioc/R/bin/R CMD check --install=check:interactiveDisplay.install-out.txt --library=/home/biocbuild/bbs-3.17-bioc/R/site-library --timings interactiveDisplay_1.38.0.tar.gz StartedAt: 2023-10-15 22:12:01 -0400 (Sun, 15 Oct 2023) EndedAt: 2023-10-15 22:15:12 -0400 (Sun, 15 Oct 2023) EllapsedTime: 191.0 seconds RetCode: 0 Status: OK CheckDir: interactiveDisplay.Rcheck Warnings: 0