Package: interactiveDisplay Version: 1.38.0 Command: /Library/Frameworks/R.framework/Resources/bin/R CMD INSTALL interactiveDisplay StartedAt: 2023-10-15 16:28:02 -0400 (Sun, 15 Oct 2023) EndedAt: 2023-10-15 16:29:15 -0400 (Sun, 15 Oct 2023) EllapsedTime: 72.9 seconds RetCode: 0 Status: OK