Package: interactiveDisplay Version: 1.38.0 Command: /Library/Frameworks/R.framework/Resources/bin/R CMD check --install=check:interactiveDisplay.install-out.txt --library=/Library/Frameworks/R.framework/Resources/library --no-vignettes --timings interactiveDisplay_1.38.0.tar.gz StartedAt: 2023-10-16 02:54:24 -0400 (Mon, 16 Oct 2023) EndedAt: 2023-10-16 03:01:39 -0400 (Mon, 16 Oct 2023) EllapsedTime: 435.3 seconds RetCode: 0 Status: OK CheckDir: interactiveDisplay.Rcheck Warnings: 0