Package: interactiveDisplay Version: 1.38.0 Command: /Library/Frameworks/R.framework/Resources/bin/R CMD build --keep-empty-dirs --no-resave-data interactiveDisplay StartedAt: 2023-10-15 19:02:21 -0400 (Sun, 15 Oct 2023) EndedAt: 2023-10-15 19:04:25 -0400 (Sun, 15 Oct 2023) EllapsedTime: 124.2 seconds RetCode: 0 Status: OK PackageFile: interactiveDisplay_1.38.0.tar.gz PackageFileSize: 4.567 MiB