Package: interactiveDisplay Version: 1.38.0 Command: rm -rf interactiveDisplay.buildbin-libdir && mkdir interactiveDisplay.buildbin-libdir && /Users/biocbuild/BBS/utils/build-universal.sh interactiveDisplay_1.38.0.tar.gz /Library/Frameworks/R.framework/Resources/bin/R interactiveDisplay.buildbin-libdir StartedAt: 2023-10-16 09:35:21 -0400 (Mon, 16 Oct 2023) EndedAt: 2023-10-16 09:36:45 -0400 (Mon, 16 Oct 2023) EllapsedTime: 84.6 seconds RetCode: 0 Status: OK PackageFile: interactiveDisplay_1.38.0.tgz PackageFileSize: 2.479 MiB