Package: interacCircos Version: 1.10.0 Command: /Library/Frameworks/R.framework/Resources/bin/R CMD check --install=check:interacCircos.install-out.txt --library=/Library/Frameworks/R.framework/Resources/library --no-vignettes --timings interacCircos_1.10.0.tar.gz StartedAt: 2023-10-16 02:53:55 -0400 (Mon, 16 Oct 2023) EndedAt: 2023-10-16 02:55:18 -0400 (Mon, 16 Oct 2023) EllapsedTime: 83.4 seconds RetCode: 0 Status: OK CheckDir: interacCircos.Rcheck Warnings: 0