Package: interacCircos Version: 1.10.0 Command: /Library/Frameworks/R.framework/Resources/bin/R CMD build --keep-empty-dirs --no-resave-data interacCircos StartedAt: 2023-10-15 19:01:18 -0400 (Sun, 15 Oct 2023) EndedAt: 2023-10-15 19:01:48 -0400 (Sun, 15 Oct 2023) EllapsedTime: 29.3 seconds RetCode: 0 Status: OK PackageFile: interacCircos_1.10.0.tar.gz PackageFileSize: 710.2 KiB