Package: intansv Version: 1.40.0 Command: chmod a+r intansv -R && F:\biocbuild\bbs-3.17-bioc\R\bin\R.exe CMD build --keep-empty-dirs --no-resave-data intansv StartedAt: 2023-10-15 19:58:14 -0400 (Sun, 15 Oct 2023) EndedAt: 2023-10-15 19:59:48 -0400 (Sun, 15 Oct 2023) EllapsedTime: 94.0 seconds RetCode: 0 Status: OK PackageFile: intansv_1.40.0.tar.gz PackageFileSize: 614.1 KiB