Package: intansv Version: 1.40.0 Command: rm -rf intansv.buildbin-libdir && mkdir intansv.buildbin-libdir && F:\biocbuild\bbs-3.17-bioc\R\bin\R.exe CMD INSTALL --build --library=intansv.buildbin-libdir intansv_1.40.0.tar.gz StartedAt: 2023-10-16 08:57:52 -0400 (Mon, 16 Oct 2023) EndedAt: 2023-10-16 08:58:50 -0400 (Mon, 16 Oct 2023) EllapsedTime: 57.8 seconds RetCode: 0 Status: OK PackageFile: intansv_1.40.0.zip PackageFileSize: 701 KiB