Package: intansv Version: 1.40.0 Command: /home/biocbuild/bbs-3.17-bioc/R/bin/R CMD INSTALL intansv StartedAt: 2023-10-15 15:30:53 -0400 (Sun, 15 Oct 2023) EndedAt: 2023-10-15 15:31:43 -0400 (Sun, 15 Oct 2023) EllapsedTime: 49.8 seconds RetCode: 0 Status: OK