Package: intansv Version: 1.40.0 Command: /home/biocbuild/bbs-3.17-bioc/R/bin/R CMD build --keep-empty-dirs --no-resave-data intansv StartedAt: 2023-10-15 17:11:05 -0400 (Sun, 15 Oct 2023) EndedAt: 2023-10-15 17:12:30 -0400 (Sun, 15 Oct 2023) EllapsedTime: 85.0 seconds RetCode: 0 Status: OK PackageFile: intansv_1.40.0.tar.gz PackageFileSize: 614.3 KiB