Package: infinityFlow Version: 1.10.0 Command: chmod a+r infinityFlow -R && F:\biocbuild\bbs-3.17-bioc\R\bin\R.exe CMD build --keep-empty-dirs --no-resave-data infinityFlow StartedAt: 2023-10-15 19:57:32 -0400 (Sun, 15 Oct 2023) EndedAt: 2023-10-15 20:01:49 -0400 (Sun, 15 Oct 2023) EllapsedTime: 257.8 seconds RetCode: 0 Status: OK PackageFile: infinityFlow_1.10.0.tar.gz PackageFileSize: 1.709 MiB