Package: infinityFlow Version: 1.10.0 Command: rm -rf infinityFlow.buildbin-libdir && mkdir infinityFlow.buildbin-libdir && F:\biocbuild\bbs-3.17-bioc\R\bin\R.exe CMD INSTALL --build --library=infinityFlow.buildbin-libdir infinityFlow_1.10.0.tar.gz StartedAt: 2023-10-16 08:57:41 -0400 (Mon, 16 Oct 2023) EndedAt: 2023-10-16 08:58:10 -0400 (Mon, 16 Oct 2023) EllapsedTime: 29.0 seconds RetCode: 0 Status: OK PackageFile: infinityFlow_1.10.0.zip PackageFileSize: 1.782 MiB