Package: infinityFlow Version: 1.10.0 Command: /home/biocbuild/bbs-3.17-bioc/R/bin/R CMD check --install=check:infinityFlow.install-out.txt --library=/home/biocbuild/bbs-3.17-bioc/R/site-library --timings infinityFlow_1.10.0.tar.gz StartedAt: 2023-10-15 22:09:44 -0400 (Sun, 15 Oct 2023) EndedAt: 2023-10-15 22:15:25 -0400 (Sun, 15 Oct 2023) EllapsedTime: 341.2 seconds RetCode: 0 Status: OK CheckDir: infinityFlow.Rcheck Warnings: 0