Package: infercnv Version: 1.16.0 Command: chmod a+r infercnv -R && F:\biocbuild\bbs-3.17-bioc\R\bin\R.exe CMD build --keep-empty-dirs --no-resave-data infercnv StartedAt: 2023-10-15 19:57:25 -0400 (Sun, 15 Oct 2023) EndedAt: 2023-10-15 19:59:16 -0400 (Sun, 15 Oct 2023) EllapsedTime: 110.9 seconds RetCode: 0 Status: OK PackageFile: infercnv_1.16.0.tar.gz PackageFileSize: 3.889 MiB