Package: infercnv Version: 1.16.0 Command: rm -rf infercnv.buildbin-libdir && mkdir infercnv.buildbin-libdir && F:\biocbuild\bbs-3.17-bioc\R\bin\R.exe CMD INSTALL --build --library=infercnv.buildbin-libdir infercnv_1.16.0.tar.gz StartedAt: 2023-10-16 08:57:40 -0400 (Mon, 16 Oct 2023) EndedAt: 2023-10-16 08:58:40 -0400 (Mon, 16 Oct 2023) EllapsedTime: 59.7 seconds RetCode: 0 Status: OK PackageFile: infercnv_1.16.0.zip PackageFileSize: 4.287 MiB