Package: infercnv Version: 1.16.0 Command: /Library/Frameworks/R.framework/Resources/bin/R CMD check --install=check:infercnv.install-out.txt --library=/Library/Frameworks/R.framework/Resources/library --no-vignettes --timings infercnv_1.16.0.tar.gz StartedAt: 2023-10-16 02:52:35 -0400 (Mon, 16 Oct 2023) EndedAt: 2023-10-16 03:11:43 -0400 (Mon, 16 Oct 2023) EllapsedTime: 1148.0 seconds RetCode: 0 Status: OK CheckDir: infercnv.Rcheck Warnings: 0