Package: immunotation Version: 1.8.0 Command: chmod a+r immunotation -R && F:\biocbuild\bbs-3.17-bioc\R\bin\R.exe CMD build --keep-empty-dirs --no-resave-data immunotation StartedAt: 2023-10-15 19:56:47 -0400 (Sun, 15 Oct 2023) EndedAt: 2023-10-15 19:59:34 -0400 (Sun, 15 Oct 2023) EllapsedTime: 167.4 seconds RetCode: 0 Status: OK PackageFile: immunotation_1.8.0.tar.gz PackageFileSize: 2.047 MiB