Package: immunotation Version: 1.8.0 Command: rm -rf immunotation.buildbin-libdir && mkdir immunotation.buildbin-libdir && F:\biocbuild\bbs-3.17-bioc\R\bin\R.exe CMD INSTALL --build --library=immunotation.buildbin-libdir immunotation_1.8.0.tar.gz StartedAt: 2023-10-16 08:57:30 -0400 (Mon, 16 Oct 2023) EndedAt: 2023-10-16 08:59:38 -0400 (Mon, 16 Oct 2023) EllapsedTime: 128.1 seconds RetCode: 0 Status: OK PackageFile: immunotation_1.8.0.zip PackageFileSize: 4.086 MiB