Package: immunotation Version: 1.8.0 Command: rm -rf immunotation.buildbin-libdir && mkdir immunotation.buildbin-libdir && /Users/biocbuild/BBS/utils/build-universal.sh immunotation_1.8.0.tar.gz /Library/Frameworks/R.framework/Resources/bin/R immunotation.buildbin-libdir StartedAt: 2023-10-16 09:34:47 -0400 (Mon, 16 Oct 2023) EndedAt: 2023-10-16 09:41:48 -0400 (Mon, 16 Oct 2023) EllapsedTime: 420.9 seconds RetCode: 0 Status: OK PackageFile: immunotation_1.8.0.tgz PackageFileSize: 4.103 MiB