Package: immunoClust Version: 1.32.0 Command: rm -rf immunoClust.buildbin-libdir && mkdir immunoClust.buildbin-libdir && F:\biocbuild\bbs-3.17-bioc\R\bin\R.exe CMD INSTALL --build --library=immunoClust.buildbin-libdir immunoClust_1.32.0.tar.gz StartedAt: 2023-10-16 08:57:28 -0400 (Mon, 16 Oct 2023) EndedAt: 2023-10-16 08:58:14 -0400 (Mon, 16 Oct 2023) EllapsedTime: 45.2 seconds RetCode: 0 Status: OK PackageFile: immunoClust_1.32.0.zip PackageFileSize: 3.458 MiB