Package: immunoClust Version: 1.32.0 Command: /Library/Frameworks/R.framework/Resources/bin/R CMD check --install=check:immunoClust.install-out.txt --library=/Library/Frameworks/R.framework/Resources/library --no-vignettes --timings immunoClust_1.32.0.tar.gz StartedAt: 2023-10-16 02:51:24 -0400 (Mon, 16 Oct 2023) EndedAt: 2023-10-16 02:57:48 -0400 (Mon, 16 Oct 2023) EllapsedTime: 383.5 seconds RetCode: 0 Status: OK CheckDir: immunoClust.Rcheck Warnings: 0