Package: imageHTS Version: 1.50.0 Command: /Library/Frameworks/R.framework/Resources/bin/R CMD INSTALL imageHTS StartedAt: 2023-10-15 16:04:14 -0400 (Sun, 15 Oct 2023) EndedAt: 2023-10-15 16:05:41 -0400 (Sun, 15 Oct 2023) EllapsedTime: 86.1 seconds RetCode: 0 Status: OK