Package: imageHTS Version: 1.49.0 Command: /Library/Frameworks/R.framework/Resources/bin/R CMD check --install=check:imageHTS.install-out.txt --library=/Library/Frameworks/R.framework/Resources/library --no-vignettes --timings imageHTS_1.49.0.tar.gz StartedAt: 2022-11-09 03:47:07 -0500 (Wed, 09 Nov 2022) EndedAt: 2022-11-09 03:55:45 -0500 (Wed, 09 Nov 2022) EllapsedTime: 517.6 seconds RetCode: 0 Status: OK CheckDir: imageHTS.Rcheck Warnings: 0