Package: illuminaio Version: 0.42.0 Command: rm -rf illuminaio.buildbin-libdir && mkdir illuminaio.buildbin-libdir && F:\biocbuild\bbs-3.17-bioc\R\bin\R.exe CMD INSTALL --build --library=illuminaio.buildbin-libdir illuminaio_0.42.0.tar.gz StartedAt: 2023-10-16 08:57:18 -0400 (Mon, 16 Oct 2023) EndedAt: 2023-10-16 08:57:28 -0400 (Mon, 16 Oct 2023) EllapsedTime: 10.2 seconds RetCode: 0 Status: OK PackageFile: illuminaio_0.42.0.zip PackageFileSize: 327.2 KiB