Package: illuminaio Version: 0.42.0 Command: /home/biocbuild/bbs-3.17-bioc/R/bin/R CMD build --keep-empty-dirs --no-resave-data illuminaio StartedAt: 2023-10-15 17:08:57 -0400 (Sun, 15 Oct 2023) EndedAt: 2023-10-15 17:09:09 -0400 (Sun, 15 Oct 2023) EllapsedTime: 11.3 seconds RetCode: 0 Status: OK PackageFile: illuminaio_0.42.0.tar.gz PackageFileSize: 315.7 KiB