Package: illuminaio Version: 0.42.0 Command: /Library/Frameworks/R.framework/Resources/bin/R CMD check --install=check:illuminaio.install-out.txt --library=/Library/Frameworks/R.framework/Resources/library --no-vignettes --timings illuminaio_0.42.0.tar.gz StartedAt: 2023-10-16 02:50:51 -0400 (Mon, 16 Oct 2023) EndedAt: 2023-10-16 02:51:55 -0400 (Mon, 16 Oct 2023) EllapsedTime: 64.1 seconds RetCode: 0 Status: OK CheckDir: illuminaio.Rcheck Warnings: 0