Package: idpr Version: 1.10.0 Command: /home/biocbuild/bbs-3.17-bioc/R/bin/R CMD check --install=check:idpr.install-out.txt --library=/home/biocbuild/bbs-3.17-bioc/R/site-library --timings idpr_1.10.0.tar.gz StartedAt: 2023-10-15 22:06:35 -0400 (Sun, 15 Oct 2023) EndedAt: 2023-10-15 22:08:18 -0400 (Sun, 15 Oct 2023) EllapsedTime: 102.9 seconds RetCode: 0 Status: OK CheckDir: idpr.Rcheck Warnings: 0