Package: idpr Version: 1.10.0 Command: /home/biocbuild/bbs-3.17-bioc/R/bin/R CMD build --keep-empty-dirs --no-resave-data idpr StartedAt: 2023-10-15 17:08:36 -0400 (Sun, 15 Oct 2023) EndedAt: 2023-10-15 17:09:34 -0400 (Sun, 15 Oct 2023) EllapsedTime: 57.7 seconds RetCode: 0 Status: OK PackageFile: idpr_1.10.0.tar.gz PackageFileSize: 2.478 MiB