Package: idpr Version: 1.10.0 Command: /Library/Frameworks/R.framework/Resources/bin/R CMD INSTALL idpr StartedAt: 2023-10-15 15:15:31 -0400 (Sun, 15 Oct 2023) EndedAt: 2023-10-15 15:15:55 -0400 (Sun, 15 Oct 2023) EllapsedTime: 24.1 seconds RetCode: 0 Status: OK