Package: idiogram Version: 1.76.0 Command: chmod a+r idiogram -R && F:\biocbuild\bbs-3.17-bioc\R\bin\R.exe CMD build --keep-empty-dirs --no-resave-data idiogram StartedAt: 2023-10-15 19:53:40 -0400 (Sun, 15 Oct 2023) EndedAt: 2023-10-15 19:54:07 -0400 (Sun, 15 Oct 2023) EllapsedTime: 27.1 seconds RetCode: 0 Status: OK PackageFile: idiogram_1.76.0.tar.gz PackageFileSize: 1.713 MiB