Package: idiogram Version: 1.76.0 Command: rm -rf idiogram.buildbin-libdir && mkdir idiogram.buildbin-libdir && F:\biocbuild\bbs-3.17-bioc\R\bin\R.exe CMD INSTALL --build --library=idiogram.buildbin-libdir idiogram_1.76.0.tar.gz StartedAt: 2023-10-16 08:57:08 -0400 (Mon, 16 Oct 2023) EndedAt: 2023-10-16 08:57:30 -0400 (Mon, 16 Oct 2023) EllapsedTime: 22.3 seconds RetCode: 0 Status: OK PackageFile: idiogram_1.76.0.zip PackageFileSize: 3.683 MiB