Package: ideal Version: 1.24.1 Command: /Library/Frameworks/R.framework/Resources/bin/R CMD build --keep-empty-dirs --no-resave-data ideal StartedAt: 2023-10-15 18:57:24 -0400 (Sun, 15 Oct 2023) EndedAt: 2023-10-15 19:03:49 -0400 (Sun, 15 Oct 2023) EllapsedTime: 384.4 seconds RetCode: 0 Status: OK PackageFile: ideal_1.24.1.tar.gz PackageFileSize: 5.596 MiB