Package: icetea Version: 1.18.1 Command: rm -rf icetea.buildbin-libdir && mkdir icetea.buildbin-libdir && F:\biocbuild\bbs-3.17-bioc\R\bin\R.exe CMD INSTALL --build --library=icetea.buildbin-libdir icetea_1.18.1.tar.gz StartedAt: 2023-10-16 08:56:55 -0400 (Mon, 16 Oct 2023) EndedAt: 2023-10-16 08:57:52 -0400 (Mon, 16 Oct 2023) EllapsedTime: 56.8 seconds RetCode: 0 Status: OK PackageFile: icetea_1.18.1.zip PackageFileSize: 1.008 MiB